1.000000
0.000000
-0.000000
-1.000000
405000.500000
2264999.500000
