1.000000
0.000000
-0.000000
-1.000000
350000.500000
2229999.500000
