1.000000
0.000000
-0.000000
-1.000000
355000.500000
2209999.500000
