0.500000
0.000000
-0.000000
-0.500000
396821.590000
4501412.430000
