0.500000
0.000000
-0.000000
-0.500000
394425.290000
4518794.570000
