0.00000315000000
0.00000000000000
0.00000000000000
-0.00000275000000
-89.62500004500001
29.46874974500000
