0.00000315000000
0.00000000000000
0.00000000000000
-0.00000275000000
-89.93749894500000
29.62499924500000
