0.00000315000000
0.00000000000000
0.00000000000000
-0.00000275000000
-89.53124974500000
29.75000049500000
