0.00000315000000
0.00000000000000
0.00000000000000
-0.00000275000000
-89.81250064500000
29.87499899500000
