0.00000315000000
0.00000000000000
0.00000000000000
-0.00000275000000
-89.68749919500000
30.00000024500000
