0.00000315000000
0.00000000000000
0.00000000000000
-0.00000275000000
-90.37499929499999
29.59375099500000
