0.00000315000000
0.00000000000000
0.00000000000000
-0.00000275000000
-90.34375129500000
29.65625024500000
