0.00000315000000
0.00000000000000
0.00000000000000
-0.00000275000000
-90.56249989500000
29.96874924500000
