0.00000318057110
0.00000000000000
0.00000000000000
-0.00000274931900
-87.96875130898100
30.71874965742100
