0.00000318057110
0.00000000000000
0.00000000000000
-0.00000274931900
-88.00000042003850
30.93749922365600
