0.00000318057110
0.00000000000000
0.00000000000000
-0.00000274931900
-88.40625156192050
30.31249965074300
