0.00000318057110
0.00000000000000
0.00000000000000
-0.00000274931900
-88.93749919633231
30.37499955353200
