0.00000318057110
0.00000000000000
0.00000000000000
-0.00000274931900
-88.12500004483961
30.59374911976700
