0.00000318057110
0.00000000000000
0.00000000000000
-0.00000274931900
-88.68750014612230
30.62500114109800
