0.00000318057110
0.00000000000000
0.00000000000000
-0.00000274931900
-88.87500097421730
30.56250036001300
