0.00000318057110
0.00000000000000
0.00000000000000
-0.00000274931900
-88.21875053443330
30.65624975463200
