0.00000318057110
0.00000000000000
0.00000000000000
-0.00000274931900
-88.37499927029191
30.65624975463200
