0.00000318000000
0.00000000000000
0.00000000000000
-0.00000275000000
-88.96874900000000
30.68749874500000
