0.00000318057110
0.00000000000000
0.00000000000000
-0.00000274931900
-88.09375093378210
30.84375019507500
