0.00000318057110
0.00000000000000
0.00000000000000
-0.00000274931900
-88.15624948523990
30.81249868600200
