0.00000318057110
0.00000000000000
0.00000000000000
-0.00000274931900
-88.24999964549080
30.96875109876700
