0.00000318057110
0.00000000000000
0.00000000000000
-0.00000274931900
-88.49999939925659
30.93749921886500
