0.00000318057110
0.00000000000000
0.00000000000000
-0.00000274931900
-88.43750119986440
30.90625118111700
