0.00000318057110
0.00000000000000
0.00000000000000
-0.00000274931900
-88.53125121087150
30.90625045911100
