0.00000318057110
0.00000000000000
0.00000000000000
-0.00000274931900
-88.75000154880840
30.93749973591400
