0.00000318057110
0.00000000000000
0.00000000000000
-0.00000274931900
-88.65625103506480
30.93749973591400
