0.00000318057110
0.00000000000000
0.00000000000000
-0.00000274931900
-88.90625008527481
30.99999949248300
