0.00000315000000
0.00000000000000
0.00000000000000
-0.00000275000000
-89.75000149500001
30.06249949500000
