0.00000315000000
0.00000000000000
0.00000000000000
-0.00000275000000
-89.87499979500001
30.06249949500000
