0.00000315000000
0.00000000000000
0.00000000000000
-0.00000275000000
-89.96875009500000
30.12499874500000
