0.00000318032080
0.00000000000000
0.00000000000000
-0.00000274932240
-89.50000067844240
30.24999900946880
