0.00000318032080
0.00000000000000
0.00000000000000
-0.00000274932240
-89.40625118190000
30.31249935558800
