0.00000318032080
0.00000000000000
0.00000000000000
-0.00000274932240
-89.53125051062320
30.37499970170720
