0.00000318032080
0.00000000000000
0.00000000000000
-0.00000274932240
-89.56250034280400
30.31249935558800
