0.00000317719070
0.00000000000000
0.00000000000000
-0.00000274936310
-89.87499920466492
30.37499919107640
