0.00000317719070
0.00000000000000
0.00000000000000
-0.00000274936310
-89.84375153413042
30.37499919107640
