0.00000318032080
0.00000000000000
0.00000000000000
-0.00000274932240
-89.15624966135920
30.43750050852560
