0.00000318032080
0.00000000000000
0.00000000000000
-0.00000274932240
-89.28124892153440
30.50000085464480
