0.00000317719070
0.00000000000000
0.00000000000000
-0.00000274936310
-89.99999941837501
30.46874972342330
