0.00000318032080
0.00000000000000
0.00000000000000
-0.00000274932240
-89.06250055346720
30.74999922689040
