0.00000318032080
0.00000000000000
0.00000000000000
-0.00000274932240
-89.12499982917841
30.65625034528160
