0.00000318032080
0.00000000000000
0.00000000000000
-0.00000274932240
-89.65624983934640
30.74999902910000
