0.00000317719070
0.00000000000000
0.00000000000000
-0.00000274936310
-89.93750034544709
30.84374910344780
