0.00000317719070
0.00000000000000
0.00000000000000
-0.00000274936310
-89.90624949772190
31.00000090714700
