0.00000317719070
0.00000000000000
0.00000000000000
-0.00000274936310
-90.37499983582872
30.21875098388430
